BEGIN:VCALENDAR
VERSION:2.0
PRODID:-//Carl-Fuhlrott-Gymnasium Wuppertal - ECPv6.15.17.1//NONSGML v1.0//EN
CALSCALE:GREGORIAN
METHOD:PUBLISH
X-WR-CALNAME:Carl-Fuhlrott-Gymnasium Wuppertal
X-ORIGINAL-URL:https://carl-fuhlrott-gymnasium.de
X-WR-CALDESC:Veranstaltungen für Carl-Fuhlrott-Gymnasium Wuppertal
REFRESH-INTERVAL;VALUE=DURATION:PT1H
X-Robots-Tag:noindex
X-PUBLISHED-TTL:PT1H
BEGIN:VTIMEZONE
TZID:Europe/Berlin
BEGIN:DAYLIGHT
TZOFFSETFROM:+0100
TZOFFSETTO:+0200
TZNAME:CEST
DTSTART:20250330T010000
END:DAYLIGHT
BEGIN:STANDARD
TZOFFSETFROM:+0200
TZOFFSETTO:+0100
TZNAME:CET
DTSTART:20251026T010000
END:STANDARD
BEGIN:DAYLIGHT
TZOFFSETFROM:+0100
TZOFFSETTO:+0200
TZNAME:CEST
DTSTART:20260329T010000
END:DAYLIGHT
BEGIN:STANDARD
TZOFFSETFROM:+0200
TZOFFSETTO:+0100
TZNAME:CET
DTSTART:20261025T010000
END:STANDARD
BEGIN:DAYLIGHT
TZOFFSETFROM:+0100
TZOFFSETTO:+0200
TZNAME:CEST
DTSTART:20270328T010000
END:DAYLIGHT
BEGIN:STANDARD
TZOFFSETFROM:+0200
TZOFFSETTO:+0100
TZNAME:CET
DTSTART:20271031T010000
END:STANDARD
END:VTIMEZONE
BEGIN:VEVENT
DTSTART;VALUE=DATE:20260423
DTEND;VALUE=DATE:20260424
DTSTAMP:20260420T023733
CREATED:20260217T130350Z
LAST-MODIFIED:20260217T130350Z
UID:19738-1776902400-1776988799@carl-fuhlrott-gymnasium.de
SUMMARY:Girls' and Boys' Day
DESCRIPTION:
URL:https://carl-fuhlrott-gymnasium.de/event/girls-and-boys-day/
CATEGORIES:Schultermine
END:VEVENT
BEGIN:VEVENT
DTSTART;VALUE=DATE:20260423
DTEND;VALUE=DATE:20260424
DTSTAMP:20260420T023733
CREATED:20260217T130445Z
LAST-MODIFIED:20260217T130445Z
UID:19740-1776902400-1776988799@carl-fuhlrott-gymnasium.de
SUMMARY:1. Berufsfelderkundungstag Jgst. 8
DESCRIPTION:
URL:https://carl-fuhlrott-gymnasium.de/event/1-berufsfelderkundungstag-jgst-8/
CATEGORIES:Schultermine
END:VEVENT
BEGIN:VEVENT
DTSTART;TZID=Europe/Berlin:20260423T180000
DTEND;TZID=Europe/Berlin:20260423T210000
DTSTAMP:20260420T023733
CREATED:20260418T143929Z
LAST-MODIFIED:20260418T143949Z
UID:19947-1776967200-1776978000@carl-fuhlrott-gymnasium.de
SUMMARY:No Abi No Cry - Lehrerkonzert
DESCRIPTION:Kein Abi\, kein Stufenkonzert? Stimmt\, dafür aber ein Lehrerkonzert. \nAm 23.04.2026 im PZ \nEinlass: 18:00 Uhr \nBeginn: 19 Uhr
URL:https://carl-fuhlrott-gymnasium.de/event/no-abi-no-cry-lehrerkonzert/
CATEGORIES:Veranstaltungen
END:VEVENT
BEGIN:VEVENT
DTSTART;VALUE=DATE:20260513
DTEND;VALUE=DATE:20260514
DTSTAMP:20260420T023733
CREATED:20260217T130536Z
LAST-MODIFIED:20260310T080103Z
UID:19742-1778630400-1778716799@carl-fuhlrott-gymnasium.de
SUMMARY:ZP 10 Deutsch
DESCRIPTION:
URL:https://carl-fuhlrott-gymnasium.de/event/zp-10-deutsch/
CATEGORIES:Schultermine
END:VEVENT
BEGIN:VEVENT
DTSTART;VALUE=DATE:20260519
DTEND;VALUE=DATE:20260520
DTSTAMP:20260420T023733
CREATED:20260217T130613Z
LAST-MODIFIED:20260217T130613Z
UID:19744-1779148800-1779235199@carl-fuhlrott-gymnasium.de
SUMMARY:ZP 10 Englisch
DESCRIPTION:
URL:https://carl-fuhlrott-gymnasium.de/event/zp-10-englisch/
CATEGORIES:Schultermine
END:VEVENT
BEGIN:VEVENT
DTSTART;VALUE=DATE:20260526
DTEND;VALUE=DATE:20260527
DTSTAMP:20260420T023733
CREATED:20260217T130639Z
LAST-MODIFIED:20260217T130639Z
UID:19746-1779753600-1779839999@carl-fuhlrott-gymnasium.de
SUMMARY:Pfingstferien
DESCRIPTION:
URL:https://carl-fuhlrott-gymnasium.de/event/pfingstferien-3/
CATEGORIES:Ferien und freie Tage
END:VEVENT
BEGIN:VEVENT
DTSTART;VALUE=DATE:20260528
DTEND;VALUE=DATE:20260529
DTSTAMP:20260420T023733
CREATED:20260217T130704Z
LAST-MODIFIED:20260217T130704Z
UID:19748-1779926400-1780012799@carl-fuhlrott-gymnasium.de
SUMMARY:ZP 10 Mathe
DESCRIPTION:
URL:https://carl-fuhlrott-gymnasium.de/event/zp-10-mathe/
CATEGORIES:Schultermine
END:VEVENT
BEGIN:VEVENT
DTSTART;VALUE=DATE:20260605
DTEND;VALUE=DATE:20260606
DTSTAMP:20260420T023733
CREATED:20260217T130737Z
LAST-MODIFIED:20260217T130737Z
UID:19750-1780617600-1780703999@carl-fuhlrott-gymnasium.de
SUMMARY:beweglicher Ferientag
DESCRIPTION:
URL:https://carl-fuhlrott-gymnasium.de/event/beweglicher-ferientag-9/
CATEGORIES:Ferien und freie Tage
END:VEVENT
BEGIN:VEVENT
DTSTART;VALUE=DATE:20260615
DTEND;VALUE=DATE:20260618
DTSTAMP:20260420T023733
CREATED:20260217T130813Z
LAST-MODIFIED:20260217T130813Z
UID:19752-1781481600-1781740799@carl-fuhlrott-gymnasium.de
SUMMARY:Musikfahrt
DESCRIPTION:
URL:https://carl-fuhlrott-gymnasium.de/event/musikfahrt-2/
CATEGORIES:Schultermine
END:VEVENT
BEGIN:VEVENT
DTSTART;TZID=Europe/Berlin:20260622T000000
DTEND;TZID=Europe/Berlin:20260622T000000
DTSTAMP:20260420T023733
CREATED:20260217T130852Z
LAST-MODIFIED:20260217T130852Z
UID:19754-1782086400-1782086400@carl-fuhlrott-gymnasium.de
SUMMARY:Kaleidoskop der Talente
DESCRIPTION:
URL:https://carl-fuhlrott-gymnasium.de/event/kaleidoskop-der-talente-5/
CATEGORIES:Veranstaltungen
END:VEVENT
BEGIN:VEVENT
DTSTART;TZID=Europe/Berlin:20260624T000000
DTEND;TZID=Europe/Berlin:20260624T000000
DTSTAMP:20260420T023733
CREATED:20260217T130921Z
LAST-MODIFIED:20260217T130921Z
UID:19756-1782259200-1782259200@carl-fuhlrott-gymnasium.de
SUMMARY:Sommerkonzert
DESCRIPTION:
URL:https://carl-fuhlrott-gymnasium.de/event/sommerkonzert-3/
CATEGORIES:Veranstaltungen
END:VEVENT
BEGIN:VEVENT
DTSTART;TZID=Europe/Berlin:20260708T000000
DTEND;TZID=Europe/Berlin:20260708T000000
DTSTAMP:20260420T023733
CREATED:20260217T131008Z
LAST-MODIFIED:20260217T131008Z
UID:19758-1783468800-1783468800@carl-fuhlrott-gymnasium.de
SUMMARY:Schulkonferenz
DESCRIPTION:
URL:https://carl-fuhlrott-gymnasium.de/event/schulkonferenz-13/
CATEGORIES:Schultermine
END:VEVENT
BEGIN:VEVENT
DTSTART;VALUE=DATE:20260713
DTEND;VALUE=DATE:20260717
DTSTAMP:20260420T023733
CREATED:20260217T131045Z
LAST-MODIFIED:20260217T131045Z
UID:19760-1783900800-1784246399@carl-fuhlrott-gymnasium.de
SUMMARY:Workshopwoche
DESCRIPTION:
URL:https://carl-fuhlrott-gymnasium.de/event/workshopwoche-2/
CATEGORIES:Veranstaltungen
END:VEVENT
BEGIN:VEVENT
DTSTART;TZID=Europe/Berlin:20260919T110000
DTEND;TZID=Europe/Berlin:20260919T140000
DTSTAMP:20260420T023733
CREATED:20260217T131122Z
LAST-MODIFIED:20260217T131122Z
UID:19762-1789815600-1789826400@carl-fuhlrott-gymnasium.de
SUMMARY:CFG-Tag
DESCRIPTION:
URL:https://carl-fuhlrott-gymnasium.de/event/cfg-tag-3/
CATEGORIES:Veranstaltungen
END:VEVENT
END:VCALENDAR